BEGIN:VCALENDAR
VERSION:2.0
PRODID:-//Bhume Society America, Inc. - ECPv6.15.20//NONSGML v1.0//EN
CALSCALE:GREGORIAN
METHOD:PUBLISH
X-WR-CALNAME:Bhume Society America, Inc.
X-ORIGINAL-URL:https://bhumesocietyamerica.org
X-WR-CALDESC:Events for Bhume Society America, Inc.
REFRESH-INTERVAL;VALUE=DURATION:PT1H
X-Robots-Tag:noindex
X-PUBLISHED-TTL:PT1H
BEGIN:VTIMEZONE
TZID:UTC
BEGIN:STANDARD
TZOFFSETFROM:+0000
TZOFFSETTO:+0000
TZNAME:UTC
DTSTART:20230101T000000
END:STANDARD
END:VTIMEZONE
BEGIN:VEVENT
DTSTART;TZID=UTC:20240527T100000
DTEND;TZID=UTC:20240527T180000
DTSTAMP:20260421T100608
CREATED:20160306T123923Z
LAST-MODIFIED:20240526T040757Z
UID:892-1716804000-1716832800@bhumesocietyamerica.org
SUMMARY:Annual Summer BBQ
DESCRIPTION:
URL:https://bhumesocietyamerica.org/event/annual-summer-bbq/
LOCATION:Annual Summar BBQ\, Sunken Meadow State Park\, Long Island\, NY\, United States
CATEGORIES:Annual Summer BBQ
ORGANIZER;CN="Bhume Society America%2C Inc.":MAILTO:Info@BhumeSocietyAmerica.org
END:VEVENT
END:VCALENDAR