BEGIN:VCALENDAR
VERSION:2.0
PRODID:-//Bhume Society America, Inc. - ECPv6.15.20//NONSGML v1.0//EN
CALSCALE:GREGORIAN
METHOD:PUBLISH
X-ORIGINAL-URL:https://bhumesocietyamerica.org
X-WR-CALDESC:Events for Bhume Society America, Inc.
REFRESH-INTERVAL;VALUE=DURATION:PT1H
X-Robots-Tag:noindex
X-PUBLISHED-TTL:PT1H
BEGIN:VTIMEZONE
TZID:UTC
BEGIN:STANDARD
TZOFFSETFROM:+0000
TZOFFSETTO:+0000
TZNAME:UTC
DTSTART:20230101T000000
END:STANDARD
END:VTIMEZONE
BEGIN:VEVENT
DTSTART;VALUE=DATE:20241201
DTEND;VALUE=DATE:20250101
DTSTAMP:20260419T144238
CREATED:20160307T114451Z
LAST-MODIFIED:20240529T125405Z
UID:902-1733011200-1735689599@bhumesocietyamerica.org
SUMMARY:Annual Fundraiser
DESCRIPTION:Bhume Society America is a 501(c)(3) non-profit organization based in the United States and supports the various projects in Bhume Rural Municipality\, Rukum East\, Nepal. Your donation is typically tax-deductible in the U.S.
URL:https://bhumesocietyamerica.org/event/annual-fundraiser/
LOCATION:To Be Determined
CATEGORIES:Annual Fundraiser
ORGANIZER;CN="Bhume Society America%2C Inc.":MAILTO:Info@BhumeSocietyAmerica.org
END:VEVENT
END:VCALENDAR